BEGIN:VCALENDAR
VERSION:2.0
PRODID:-//Publika
CALSCALE:GREGORIAN
METHOD:PUBLISH
X-WR-CALNAME:Publika
X-ORIGINAL-URL:https://formazione.publika.it/prodotto/2026-c25c-mini-master-accessorio-primavera-2026-la-costituzione-del-fondo-risorse-decentrate-e-la-contrattazione/
X-WR-CALDESC:2026-C25C &#8211; MINI MASTER ACCESSORIO &#8211; PRIMAVERA 2026 &#8211; La Costituzione del fondo risorse decentrate e la contrattazione
BEGIN:VEVENT
DTSTART:20260521T090000
DTEND:20260521T110000
SUMMARY:2026-C25C &#8211; MINI MASTER ACCESSORIO &#8211; PRIMAVERA 2026 &#8211; La Costituzione del fondo risorse decentrate e la contrattazione
DESCRIPTION:<strong>LA COSTITUZIONE DEL FONDO RISORSE DECENTRATE E LA CONTRATTAZIONE  –  dott. <em>Davide d’Alfonso</em></strong>
<ul>
 	<li>Novità di incremento previste dal CCNL 23/02/2026</li>
 	<li><strong>Incremento del Fondo</strong> ai sensi del <strong>d.l. 25/2025</strong></li>
 	<li><strong>Parte variabile</strong> e <strong>incrementi discrezionali</strong></li>
</ul>
<ul>
 	<li>Presupposti per l’uso corretto: <strong>CCNL</strong> e <strong>CCI</strong></li>
 	<li><strong>Contratto integrativo</strong> e <strong>accordo economico annuale</strong></li>
 	<li><strong>Voci indisponibili</strong> del Fondo</li>
 	<li><strong>Differenziali stipendiali – </strong>Cosa cambia dopo il CCNL</li>
 	<li>Altri <strong>compensi e indennità</strong></li>
</ul>
LOCATION:
END:VEVENT
END:VCALENDAR
