BEGIN:VCALENDAR
VERSION:2.0
PRODID:-//Publika
CALSCALE:GREGORIAN
METHOD:PUBLISH
X-WR-CALNAME:Publika
X-ORIGINAL-URL:https://formazione.publika.it/prodotto/2026-c25a-mini-master-accessorio-primavera-2026-i-limiti-del-trattamento-accessorio-e-le-elevate-qualificazioni/
X-WR-CALDESC:2026-C25A &#8211; MINI MASTER ACCESSORIO &#8211; PRIMAVERA 2026 &#8211; I limiti del trattamento accessorio e le Elevate Qualificazioni
BEGIN:VEVENT
DTSTART:20260519T090000
DTEND:20260519T110000
SUMMARY:2026-C25A &#8211; MINI MASTER ACCESSORIO &#8211; PRIMAVERA 2026 &#8211; I limiti del trattamento accessorio e le Elevate Qualificazioni
DESCRIPTION:<strong>Martedì 19 MAGGIO</strong>

<strong>I LIMITI DEL TRATTAMENTO ACCESSORIO E LE ELEVATE QUALIFICAZIONI – dott. <em>Gianluca Bertagna</em></strong>
<ul>
 	<li>Come si applica, davvero, il <strong>limite 2016</strong></li>
 	<li><strong>Quando si può incrementare il limite</strong></li>
</ul>
<ul>
 	<li><strong>Incremento del Fondo</strong> ai sensi del <strong>d.l. 25/2025 </strong></li>
 	<li><strong>Stanziamento EQ</strong> nel rispetto dei limiti</li>
 	<li><strong>Gli incrementi della posizione del CCNL </strong>– come gestirla</li>
 	<li><strong>Leve</strong> per stanziare di più a favore delle EQ (incluso <strong>d.l. 25/2025</strong>)</li>
 	<li>Soluzioni operative per <strong>retribuzione di posizione</strong> e <strong>di risultato</strong></li>
</ul>
LOCATION:
END:VEVENT
END:VCALENDAR
